BEGIN:VCALENDAR
PRODID:-//Microsoft Corporation//Outlook 16.0 MIMEDIR//EN
VERSION:2.0
METHOD:REQUEST
X-MS-OLK-FORCEINSPECTOROPEN:TRUE
BEGIN:VTIMEZONE
TZID:FLE Standard Time
BEGIN:STANDARD
DTSTART:16011028T040000
RRULE:FREQ=YEARLY;BYDAY=-1SU;BYMONTH=10
TZOFFSETFROM:+0300
TZOFFSETTO:+0200
END:STANDARD
BEGIN:DAYLIGHT
DTSTART:16010325T030000
RRULE:FREQ=YEARLY;BYDAY=-1SU;BYMONTH=3
TZOFFSETFROM:+0200
TZOFFSETTO:+0300
END:DAYLIGHT
END:VTIMEZONE
BEGIN:VEVENT
ATTENDEE;CN="Herkko Laine";RSVP=TRUE:mailto:herkko.laine@vektor.io
CATEGORIES:BIM työkalu
CLASS:PUBLIC
CREATED:20260409T114837Z
DESCRIPTION:BIM-vartin aiheena:\nUUTTA: TASK-toiminnallisuus Väylähankkei
	den BIM-työkalussa – havainnosta tehtäväksi yhdessä ympäristössä\
	n\n \n\n*	Miten luot tehtäviä paikkatietopohjaisesti\n*	Miten TASK-toimi
	nnallisuus sujuvoittaa kommunikointia hankkeissa\n*	Miten tarkastelet sek
	ä raportoit hankkeen tehtäviä \n\n \n\n \n\nLisätiedot:\n\nMarion Sche
	nkwein\nmarion.schenkwein@vayla.fi <mailto:marion.schenkwein@vayla.fi> \n\
	n_________________________________________________________________________
	_______\n\nMicrosoft Teams -kokous \n\nLiity: https://teams.microsoft.com/
	meet/38431771325399?p=2kprIvzZZfHcgwNr8F <https://teams.microsoft.com/meet
	/38431771325399?p=2kprIvzZZfHcgwNr8F>  \n\nKokoustunnus: 384 317 713 253 9
	9 \n\nTunnuskoodi: WR3bP9iH \n\n________________________________\n\nTarvit
	setko apua? <https://aka.ms/JoinTeamsMeeting?omkt=fi-FI>  | Järjestelmäv
	iittaus <https://teams.microsoft.com/l/meetup-join/19%3ameeting_NGZjYWM0YT
	ktMmZlNS00ZjdhLTk1ZjEtOWIyOTQyYzMwYmM2%40thread.v2/0?context=%7b%22Tid%22%
	3a%229b16f04a-da39-47e0-83ab-13df71913d16%22%2c%22Oid%22%3a%2241842da6-7c2
	8-4238-b1a0-55ed8ed90a57%22%7d>  \n\nLiity videoneuvottelulaitteella \n\nV
	uokraajan avain: vayla.teams@video.valtori.fi <mailto:vayla.teams@video.va
	ltori.fi>  \n\nVideotunnus: 126 557 242 0 \n\nLisätietoja <https://meet.v
	ideo.valtori.fi/teams/?conf=1265572420&ivr=vayla.teams&d=video.valtori.fi&
	prefix=vayla.>  \n\nJärjestäjille: Kokousvaihtoehdot <https://teams.micr
	osoft.com/meetingOptions/?organizerId=41842da6-7c28-4238-b1a0-55ed8ed90a57
	&tenantId=9b16f04a-da39-47e0-83ab-13df71913d16&threadId=19_meeting_NGZjYWM
	0YTktMmZlNS00ZjdhLTk1ZjEtOWIyOTQyYzMwYmM2@thread.v2&messageId=0&language=f
	i-FI>  \n\n_______________________________________________________________
	_________________\n\n \n\n
DTEND;TZID="FLE Standard Time":20260422T090000
DTSTAMP:20260409T114049Z
DTSTART;TZID="FLE Standard Time":20260422T081500
LAST-MODIFIED:20260409T114837Z
LOCATION:Teams
ORGANIZER;CN="Schenkwein Marion":mailto:Marion.Schenkwein@vayla.fi
PRIORITY:5
SEQUENCE:2
SUMMARY;LANGUAGE=fi:BIM-vartti: TASK-toiminnallisuus: havainnosta tehtävä
	ksi yhdessä ympäristössä
TRANSP:OPAQUE
UID:040000008200E00074C5B7101A82E0080000000090B23DF9F2AADC01000000000000000
	0100000006A90615B966B8245B6AD81BCD800464B
X-ALT-DESC;FMTTYPE=text/html:<html xmlns:v="urn:schemas-microsoft-com:vml" 
	xmlns:o="urn:schemas-microsoft-com:office:office" xmlns:w="urn:schemas-mic
	rosoft-com:office:word" xmlns:m="http://schemas.microsoft.com/office/2004/
	12/omml" xmlns="http://www.w3.org/TR/REC-html40"><head><meta name=Generato
	r content="Microsoft Word 15 (filtered medium)"><!--[if !mso]><style>v\\:*
	 {behavior:url(#default#VML)\;}\no\\:* {behavior:url(#default#VML)\;}\nw\\
	:* {behavior:url(#default#VML)\;}\n.shape {behavior:url(#default#VML)\;}\n
	</style><![endif]--><style><!--\n/* Font Definitions */\n@font-face\n	{fon
	t-family:Wingdings\;\n	panose-1:5 0 0 0 0 0 0 0 0 0\;}\n@font-face\n	{font
	-family:"Cambria Math"\;\n	panose-1:2 4 5 3 5 4 6 3 2 4\;}\n@font-face\n	{
	font-family:Aptos\;}\n@font-face\n	{font-family:"Segoe UI"\;\n	panose-1:2 
	11 5 2 4 2 4 2 2 3\;}\n/* Style Definitions */\np.MsoNormal\, li.MsoNormal
	\, div.MsoNormal\n	{margin:0cm\;\n	font-size:11.0pt\;\n	font-family:"Aptos
	"\,sans-serif\;\n	mso-ligatures:standardcontextual\;\n	mso-fareast-languag
	e:EN-US\;}\na:link\, span.MsoHyperlink\n	{mso-style-priority:99\;\n	color:
	#467886\;\n	text-decoration:underline\;}\np.MsoListParagraph\, li.MsoListP
	aragraph\, div.MsoListParagraph\n	{mso-style-priority:34\;\n	margin-top:0c
	m\;\n	margin-right:0cm\;\n	margin-bottom:0cm\;\n	margin-left:36.0pt\;\n	fo
	nt-size:11.0pt\;\n	font-family:"Aptos"\,sans-serif\;\n	mso-ligatures:stand
	ardcontextual\;\n	mso-fareast-language:EN-US\;}\nspan.Shkpostityyli19\n	{m
	so-style-type:personal-compose\;\n	font-family:"Aptos"\,sans-serif\;\n	col
	or:windowtext\;}\nspan.me-email-text\n	{mso-style-name:me-email-text\;}\ns
	pan.me-email-text-secondary\n	{mso-style-name:me-email-text-secondary\;}\n
	span.me-email-headline\n	{mso-style-name:me-email-headline\;}\n.MsoChpDefa
	ult\n	{mso-style-type:export-only\;\n	font-size:10.0pt\;\n	mso-ligatures:n
	one\;}\n@page WordSection1\n	{size:612.0pt 792.0pt\;\n	margin:70.85pt 2.0c
	m 70.85pt 2.0cm\;}\ndiv.WordSection1\n	{page:WordSection1\;}\n/* List Defi
	nitions */\n@list l0\n	{mso-list-id:1239171958\;\n	mso-list-template-ids:-
	1633382132\;}\n@list l0:level1\n	{mso-level-number-format:bullet\;\n	mso-l
	evel-text:\\F0B7\;\n	mso-level-tab-stop:36.0pt\;\n	mso-level-number-positi
	on:left\;\n	text-indent:-18.0pt\;\n	mso-ansi-font-size:10.0pt\;\n	font-fam
	ily:Symbol\;}\n@list l0:level2\n	{mso-level-number-format:bullet\;\n	mso-l
	evel-text:\\F0B7\;\n	mso-level-tab-stop:72.0pt\;\n	mso-level-number-positi
	on:left\;\n	text-indent:-18.0pt\;\n	mso-ansi-font-size:10.0pt\;\n	font-fam
	ily:Symbol\;}\n@list l0:level3\n	{mso-level-number-format:bullet\;\n	mso-l
	evel-text:\\F0B7\;\n	mso-level-tab-stop:108.0pt\;\n	mso-level-number-posit
	ion:left\;\n	text-indent:-18.0pt\;\n	mso-ansi-font-size:10.0pt\;\n	font-fa
	mily:Symbol\;}\n@list l0:level4\n	{mso-level-number-format:bullet\;\n	mso-
	level-text:\\F0B7\;\n	mso-level-tab-stop:144.0pt\;\n	mso-level-number-posi
	tion:left\;\n	text-indent:-18.0pt\;\n	mso-ansi-font-size:10.0pt\;\n	font-f
	amily:Symbol\;}\n@list l0:level5\n	{mso-level-number-format:bullet\;\n	mso
	-level-text:\\F0B7\;\n	mso-level-tab-stop:180.0pt\;\n	mso-level-number-pos
	ition:left\;\n	text-indent:-18.0pt\;\n	mso-ansi-font-size:10.0pt\;\n	font-
	family:Symbol\;}\n@list l0:level6\n	{mso-level-number-format:bullet\;\n	ms
	o-level-text:\\F0B7\;\n	mso-level-tab-stop:216.0pt\;\n	mso-level-number-po
	sition:left\;\n	text-indent:-18.0pt\;\n	mso-ansi-font-size:10.0pt\;\n	font
	-family:Symbol\;}\n@list l0:level7\n	{mso-level-number-format:bullet\;\n	m
	so-level-text:\\F0B7\;\n	mso-level-tab-stop:252.0pt\;\n	mso-level-number-p
	osition:left\;\n	text-indent:-18.0pt\;\n	mso-ansi-font-size:10.0pt\;\n	fon
	t-family:Symbol\;}\n@list l0:level8\n	{mso-level-number-format:bullet\;\n	
	mso-level-text:\\F0B7\;\n	mso-level-tab-stop:288.0pt\;\n	mso-level-number-
	position:left\;\n	text-indent:-18.0pt\;\n	mso-ansi-font-size:10.0pt\;\n	fo
	nt-family:Symbol\;}\n@list l0:level9\n	{mso-level-number-format:bullet\;\n
		mso-level-text:\\F0B7\;\n	mso-level-tab-stop:324.0pt\;\n	mso-level-number
	-position:left\;\n	text-indent:-18.0pt\;\n	mso-ansi-font-size:10.0pt\;\n	f
	ont-family:Symbol\;}\n@list l1\n	{mso-list-id:1745032056\;\n	mso-list-type
	:hybrid\;\n	mso-list-template-ids:2135752440 -556520640 67829763 67829765 
	67829761 67829763 67829765 67829761 67829763 67829765\;}\n@list l1:level1\
	n	{mso-level-start-at:20\;\n	mso-level-number-format:bullet\;\n	mso-level-
	text:\\F0B7\;\n	mso-level-tab-stop:none\;\n	mso-level-number-position:left
	\;\n	text-indent:-18.0pt\;\n	font-family:Symbol\;\n	mso-fareast-font-famil
	y:"Times New Roman"\;\n	mso-bidi-font-family:Aptos\;\n	mso-ansi-font-weigh
	t:bold\;}\n@list l1:level2\n	{mso-level-number-format:bullet\;\n	mso-level
	-text:o\;\n	mso-level-tab-stop:none\;\n	mso-level-number-position:left\;\n
		text-indent:-18.0pt\;\n	font-family:"Courier New"\;}\n@list l1:level3\n	{
	mso-level-number-format:bullet\;\n	mso-level-text:\\F0A7\;\n	mso-level-tab
	-stop:none\;\n	mso-level-number-position:left\;\n	text-indent:-18.0pt\;\n	
	font-family:Wingdings\;}\n@list l1:level4\n	{mso-level-number-format:bulle
	t\;\n	mso-level-text:\\F0B7\;\n	mso-level-tab-stop:none\;\n	mso-level-numb
	er-position:left\;\n	text-indent:-18.0pt\;\n	font-family:Symbol\;}\n@list 
	l1:level5\n	{mso-level-number-format:bullet\;\n	mso-level-text:o\;\n	mso-l
	evel-tab-stop:none\;\n	mso-level-number-position:left\;\n	text-indent:-18.
	0pt\;\n	font-family:"Courier New"\;}\n@list l1:level6\n	{mso-level-number-
	format:bullet\;\n	mso-level-text:\\F0A7\;\n	mso-level-tab-stop:none\;\n	ms
	o-level-number-position:left\;\n	text-indent:-18.0pt\;\n	font-family:Wingd
	ings\;}\n@list l1:level7\n	{mso-level-number-format:bullet\;\n	mso-level-t
	ext:\\F0B7\;\n	mso-level-tab-stop:none\;\n	mso-level-number-position:left\
	;\n	text-indent:-18.0pt\;\n	font-family:Symbol\;}\n@list l1:level8\n	{mso-
	level-number-format:bullet\;\n	mso-level-text:o\;\n	mso-level-tab-stop:non
	e\;\n	mso-level-number-position:left\;\n	text-indent:-18.0pt\;\n	font-fami
	ly:"Courier New"\;}\n@list l1:level9\n	{mso-level-number-format:bullet\;\n
		mso-level-text:\\F0A7\;\n	mso-level-tab-stop:none\;\n	mso-level-number-po
	sition:left\;\n	text-indent:-18.0pt\;\n	font-family:Wingdings\;}\nol\n	{ma
	rgin-bottom:0cm\;}\nul\n	{margin-bottom:0cm\;}\n--></style><!--[if gte mso
	 9]><xml>\n<o:shapedefaults v:ext="edit" spidmax="1026" />\n</xml><![endif
	]--><!--[if gte mso 9]><xml>\n<o:shapelayout v:ext="edit">\n<o:idmap v:ext
	="edit" data="1" />\n</o:shapelayout></xml><![endif]--></head><body lang=F
	I link="#467886" vlink="#96607D" style='word-wrap:break-word'><div class=W
	ordSection1><p class=MsoNormal><b>BIM-vartin aiheena:<br>UUTTA: TASK-toimi
	nnallisuus Väylähankkeiden BIM-työkalussa &#8211\; havainnosta tehtäv
	äksi yhdessä ympäristössä<o:p></o:p></b></p><p class=MsoNormal><b><o:
	p>&nbsp\;</o:p></b></p><ul style='margin-top:0cm' type=disc><li class=MsoL
	istParagraph style='margin-left:0cm\;mso-list:l1 level1 lfo3'>Miten luot t
	ehtäviä paikkatietopohjaisesti<o:p></o:p></li><li class=MsoListParagraph
	 style='margin-left:0cm\;mso-list:l1 level1 lfo3'>Miten TASK-toiminnallisu
	us sujuvoittaa kommunikointia hankkeissa<o:p></o:p></li><li class=MsoListP
	aragraph style='margin-left:0cm\;mso-list:l1 level1 lfo3'>Miten tarkastele
	t sekä raportoit hankkeen tehtäviä&nbsp\;<o:p></o:p></li></ul><p class=
	MsoNormal><o:p>&nbsp\;</o:p></p><p class=MsoNormal><o:p>&nbsp\;</o:p></p><
	p class=MsoNormal>Lisätiedot:<o:p></o:p></p><p class=MsoNormal>Marion Sch
	enkwein<br><a href="mailto:marion.schenkwein@vayla.fi">marion.schenkwein@v
	ayla.fi</a><o:p></o:p></p><div><div style='margin-bottom:18.0pt\;overflow:
	hidden'><p class=MsoNormal><span lang=EN-GB style='font-family:"Segoe UI"\
	,sans-serif\;color:#242424'>______________________________________________
	__________________________________</span><span lang=EN-GB style='font-size
	:12.0pt\;font-family:"Segoe UI"\,sans-serif\;color:#242424\;mso-ligatures:
	none'><o:p></o:p></span></p></div><div style='margin-bottom:9.0pt'><p clas
	s=MsoNormal><span class=me-email-text><b><span lang=EN-GB style='font-size
	:15.0pt\;font-family:"Segoe UI"\,sans-serif\;color:#242424'>Microsoft Team
	s -kokous</span></b></span><span lang=EN-GB style='font-family:"Segoe UI"\
	,sans-serif\;color:#242424'> <o:p></o:p></span></p></div><div style='margi
	n-bottom:4.5pt\;overflow-wrap: break-word'><p class=MsoNormal><span class=
	me-email-text><b><span lang=EN-GB style='font-size:15.0pt\;font-family:"Se
	goe UI"\,sans-serif\;color:#242424'>Liity: </span></b></span><span style='
	font-family:"Segoe UI"\,sans-serif\;color:#242424'><a href="https://teams.
	microsoft.com/meet/38431771325399?p=2kprIvzZZfHcgwNr8F" title="Meeting joi
	n"><span lang=EN-GB style='font-size:15.0pt\;color:#5B5FC7'>https://teams.
	microsoft.com/meet/38431771325399?p=2kprIvzZZfHcgwNr8F</span></a> </span><
	span lang=EN-GB style='font-family:"Segoe UI"\,sans-serif\;color:#242424'>
	<o:p></o:p></span></p></div><div style='margin-bottom:4.5pt'><p class=MsoN
	ormal><span class=me-email-text-secondary><span style='font-size:10.5pt\;f
	ont-family:"Segoe UI"\,sans-serif\;color:#616161'>Kokoustunnus: </span></s
	pan><span class=me-email-text><span style='font-size:10.5pt\;font-family:"
	Segoe UI"\,sans-serif\;color:#242424'>384 317 713 253 99</span></span><spa
	n style='font-family:"Segoe UI"\,sans-serif\;color:#242424'> <o:p></o:p></
	span></p></div><div style='margin-bottom:24.0pt'><p class=MsoNormal><span 
	class=me-email-text-secondary><span style='font-size:10.5pt\;font-family:"
	Segoe UI"\,sans-serif\;color:#616161'>Tunnuskoodi: </span></span><span cla
	ss=me-email-text><span style='font-size:10.5pt\;font-family:"Segoe UI"\,sa
	ns-serif\;color:#242424'>WR3bP9iH</span></span><span style='font-family:"S
	egoe UI"\,sans-serif\;color:#242424'> <o:p></o:p></span></p></div><div sty
	le='margin-bottom:9.0pt'><div class=MsoNormal align=center style='text-ali
	gn:center'><span style='font-family:"Segoe UI"\,sans-serif\;color:#242424'
	><hr size=1 width="100%" align=center></span></div></div><div style='margi
	n-bottom:18.0pt'><p class=MsoNormal><span style='font-family:"Segoe UI"\,s
	ans-serif\;color:#242424'><a href="https://aka.ms/JoinTeamsMeeting?omkt=fi
	-FI"><span style='font-size:10.5pt\;color:#5B5FC7'>Tarvitsetko apua?</span
	></a> </span><span style='font-family:"Segoe UI"\,sans-serif\;color:#61616
	1'>|</span><span style='font-family:"Segoe UI"\,sans-serif\;color:#242424'
	> <a href="https://teams.microsoft.com/l/meetup-join/19%3ameeting_NGZjYWM0
	YTktMmZlNS00ZjdhLTk1ZjEtOWIyOTQyYzMwYmM2%40thread.v2/0?context=%7b%22Tid%2
	2%3a%229b16f04a-da39-47e0-83ab-13df71913d16%22%2c%22Oid%22%3a%2241842da6-7
	c28-4238-b1a0-55ed8ed90a57%22%7d"><span style='font-size:10.5pt\;color:#5B
	5FC7'>Järjestelmäviittaus</span></a> <o:p></o:p></span></p></div><div st
	yle='margin-bottom:4.5pt'><p class=MsoNormal><span class=me-email-headline
	><b><span style='font-family:"Segoe UI"\,sans-serif\;color:#242424'>Liity 
	videoneuvottelulaitteella</span></b></span><span style='font-family:"Segoe
	 UI"\,sans-serif\;color:#242424'> <o:p></o:p></span></p></div><div style='
	margin-bottom:4.5pt'><p class=MsoNormal><span class=me-email-text><span st
	yle='font-size:10.5pt\;font-family:"Segoe UI"\,sans-serif\;color:#616161'>
	Vuokraajan avain: </span></span><span class=me-email-text><span style='fon
	t-size:10.5pt\;font-family:"Segoe UI"\,sans-serif\;color:#242424'><a href=
	"mailto:vayla.teams@video.valtori.fi">vayla.teams@video.valtori.fi</a></sp
	an></span><span style='font-family:"Segoe UI"\,sans-serif\;color:#242424'>
	 <o:p></o:p></span></p></div><div style='margin-bottom:4.5pt'><p class=Mso
	Normal><span class=me-email-text-secondary><span style='font-size:10.5pt\;
	font-family:"Segoe UI"\,sans-serif\;color:#616161'>Videotunnus: </span></s
	pan><span class=me-email-text><span style='font-size:10.5pt\;font-family:"
	Segoe UI"\,sans-serif\;color:#242424'>126 557 242 0</span></span><span sty
	le='font-family:"Segoe UI"\,sans-serif\;color:#242424'> <o:p></o:p></span>
	</p></div><div style='margin-bottom:18.0pt'><p class=MsoNormal><span style
	='font-family:"Segoe UI"\,sans-serif\;color:#242424'><a href="https://meet
	.video.valtori.fi/teams/?conf=1265572420&amp\;ivr=vayla.teams&amp\;d=video
	.valtori.fi&amp\;prefix=vayla." target="_blank"><span style='font-size:10.
	5pt\;color:#5B5FC7'>Lisätietoja</span></a> <o:p></o:p></span></p></div><d
	iv><p class=MsoNormal><span class=me-email-text-secondary><span style='fon
	t-size:10.5pt\;font-family:"Segoe UI"\,sans-serif\;color:#616161'>Järjest
	äjille: </span></span><span style='font-family:"Segoe UI"\,sans-serif\;co
	lor:#242424'><a href="https://teams.microsoft.com/meetingOptions/?organize
	rId=41842da6-7c28-4238-b1a0-55ed8ed90a57&amp\;tenantId=9b16f04a-da39-47e0-
	83ab-13df71913d16&amp\;threadId=19_meeting_NGZjYWM0YTktMmZlNS00ZjdhLTk1ZjE
	tOWIyOTQyYzMwYmM2@thread.v2&amp\;messageId=0&amp\;language=fi-FI" target="
	_blank"><span style='font-size:10.5pt\;color:#5B5FC7'>Kokousvaihtoehdot</s
	pan></a> <o:p></o:p></span></p></div><div style='margin-bottom:18.0pt\;ove
	rflow:hidden'><p class=MsoNormal><span style='font-family:"Segoe UI"\,sans
	-serif\;color:#242424'>___________________________________________________
	_____________________________<o:p></o:p></span></p></div></div><p class=Ms
	oNormal><o:p>&nbsp\;</o:p></p></div></body></html>
X-MICROSOFT-CDO-BUSYSTATUS:BUSY
X-MICROSOFT-CDO-IMPORTANCE:1
X-MICROSOFT-DISALLOW-COUNTER:FALSE
X-MS-OLK-APPTLASTSEQUENCE:2
X-MS-OLK-APPTSEQTIME:20260409T114049Z
X-MS-OLK-AUTOFILLLOCATION:FALSE
X-MS-OLK-CONFTYPE:0
BEGIN:VALARM
TRIGGER:-PT15M
ACTION:DISPLAY
DESCRIPTION:Reminder
END:VALARM
END:VEVENT
END:VCALENDAR
